BEGIN:VCALENDAR
VERSION:2.0
PRODID:-//Blair Athol North B-6 School - ECPv6.0.12//NONSGML v1.0//EN
CALSCALE:GREGORIAN
METHOD:PUBLISH
X-WR-CALNAME:Blair Athol North B-6 School
X-ORIGINAL-URL:https://banb7.sa.edu.au
X-WR-CALDESC:Events for Blair Athol North B-6 School
REFRESH-INTERVAL;VALUE=DURATION:PT1H
X-Robots-Tag:noindex
X-PUBLISHED-TTL:PT1H
BEGIN:VTIMEZONE
TZID:Australia/Adelaide
BEGIN:STANDARD
TZOFFSETFROM:+1030
TZOFFSETTO:+0930
TZNAME:ACST
DTSTART:20260404T163000
END:STANDARD
BEGIN:DAYLIGHT
TZOFFSETFROM:+0930
TZOFFSETTO:+1030
TZNAME:ACDT
DTSTART:20261003T163000
END:DAYLIGHT
END:VTIMEZONE
BEGIN:VEVENT
DTSTART;VALUE=DATE:20260727
DTEND;VALUE=DATE:20260728
DTSTAMP:20260418T012357
CREATED:20250922T023523Z
LAST-MODIFIED:20260320T210322Z
UID:251380-1785110400-1785196799@banb7.sa.edu.au
SUMMARY:Photo Day for term 3 Students
DESCRIPTION:
URL:https://banb7.sa.edu.au/event/photo-day-for-term-3-students/
END:VEVENT
END:VCALENDAR